BEGIN:VCALENDAR
VERSION:2.0
PRODID:-//Dooleys Camera Club - ECPv6.15.20//NONSGML v1.0//EN
CALSCALE:GREGORIAN
METHOD:PUBLISH
X-WR-CALNAME:Dooleys Camera Club
X-ORIGINAL-URL:https://dooleyscc.com.au
X-WR-CALDESC:Events for Dooleys Camera Club
REFRESH-INTERVAL;VALUE=DURATION:PT1H
X-Robots-Tag:noindex
X-PUBLISHED-TTL:PT1H
BEGIN:VTIMEZONE
TZID:Australia/Sydney
BEGIN:STANDARD
TZOFFSETFROM:+1100
TZOFFSETTO:+1000
TZNAME:AEST
DTSTART:20130406T160000
END:STANDARD
BEGIN:DAYLIGHT
TZOFFSETFROM:+1000
TZOFFSETTO:+1100
TZNAME:AEDT
DTSTART:20131005T160000
END:DAYLIGHT
BEGIN:STANDARD
TZOFFSETFROM:+1100
TZOFFSETTO:+1000
TZNAME:AEST
DTSTART:20140405T160000
END:STANDARD
BEGIN:DAYLIGHT
TZOFFSETFROM:+1000
TZOFFSETTO:+1100
TZNAME:AEDT
DTSTART:20141004T160000
END:DAYLIGHT
BEGIN:STANDARD
TZOFFSETFROM:+1100
TZOFFSETTO:+1000
TZNAME:AEST
DTSTART:20150404T160000
END:STANDARD
BEGIN:DAYLIGHT
TZOFFSETFROM:+1000
TZOFFSETTO:+1100
TZNAME:AEDT
DTSTART:20151003T160000
END:DAYLIGHT
END:VTIMEZONE
BEGIN:VEVENT
DTSTART;TZID=Australia/Sydney:20140516T180000
DTEND;TZID=Australia/Sydney:20140613T120000
DTSTAMP:20260423T214846
CREATED:20140411T064328Z
LAST-MODIFIED:20140411T064328Z
UID:68574-1400263200-1402660800@dooleyscc.com.au
SUMMARY:6TH DOOLEYS CAMERA CLUB PHOTOGRAPHIC EXHIBITION
DESCRIPTION:Ay financial member who wishes to exhibit work in this exhibition is asked to supply up to four images of their choosing.  We guarantee that two of the images you send along will be included in the display.  These images do not need to be Credits or Merits; these images are member personal favourites.  Images need to be brought along to our meeting in April 11th     or May 9th to be included in this Exhibition.  The attached entry form needs to be filled out with the details of the images supplied for the Exhibition. \n 
URL:https://dooleyscc.com.au/meeting/6th-dooleys-camera-club-photographic-exhibition/
LOCATION:Dooleys Catholic Club\, Lidcome\, 24-28 John St\, Lidcome\, NSW\, 2141\, Australia
END:VEVENT
BEGIN:VEVENT
DTSTART;TZID=Australia/Sydney:20140525T150000
DTEND;TZID=Australia/Sydney:20140525T190000
DTSTAMP:20260423T214846
CREATED:20140411T064701Z
LAST-MODIFIED:20140411T064701Z
UID:68576-1401030000-1401044400@dooleyscc.com.au
SUMMARY:3 WAY INTERCLUB COMPETITIONS
DESCRIPTION:This year the host club for this competition is Port Hacking Camera Club.  Address: 1st Floor\, Cronulla School of Arts\, Surf Road\, Cronulla (Entry via Surf Lane). \nThe date for this competition has been changed to Sunday 25th May                        commencing at 3.00p.m. – 7.00p.m. \nThe selection Committee is looking for prints for this competition.  Please bring along any Large Colour Prints or Monochrome Prints that has received a credit\, merit or Top shot from May last year\, to our meeting in April 11th or May 9th. \n 
URL:https://dooleyscc.com.au/meeting/3-way-interclub-competitions/
LOCATION:Cronulla School of Arts\, Surf Road\, Cronulla\, NSW\, Australia
END:VEVENT
END:VCALENDAR