BEGIN:VCALENDAR
VERSION:2.0
PRODID:-//Dooleys Camera Club - ECPv6.15.20//NONSGML v1.0//EN
CALSCALE:GREGORIAN
METHOD:PUBLISH
X-ORIGINAL-URL:https://dooleyscc.com.au
X-WR-CALDESC:Events for Dooleys Camera Club
REFRESH-INTERVAL;VALUE=DURATION:PT1H
X-Robots-Tag:noindex
X-PUBLISHED-TTL:PT1H
BEGIN:VTIMEZONE
TZID:UTC
BEGIN:STANDARD
TZOFFSETFROM:+0000
TZOFFSETTO:+0000
TZNAME:UTC
DTSTART:20160101T000000
END:STANDARD
END:VTIMEZONE
BEGIN:VEVENT
DTSTART;TZID=UTC:20170224T193000
DTEND;TZID=UTC:20170224T223000
DTSTAMP:20260424T092325
CREATED:20170118T191354Z
LAST-MODIFIED:20170118T191354Z
UID:74019-1487964600-1487975400@dooleyscc.com.au
SUMMARY:Competition Open + Landscape/Seascape - Dennis Jones
DESCRIPTION:
URL:https://dooleyscc.com.au/meeting/competition-open-landscapeseascape-dennis-jones/
LOCATION:DOOLEYS Lidcombe Catholic Club\, 24  John St\, Lidcombe\, 2141\, Australia
END:VEVENT
END:VCALENDAR