BEGIN:VCALENDAR
VERSION:2.0
PRODID:-//Dooleys Camera Club - ECPv6.15.20//NONSGML v1.0//EN
CALSCALE:GREGORIAN
METHOD:PUBLISH
X-ORIGINAL-URL:https://dooleyscc.com.au
X-WR-CALDESC:Events for Dooleys Camera Club
REFRESH-INTERVAL;VALUE=DURATION:PT1H
X-Robots-Tag:noindex
X-PUBLISHED-TTL:PT1H
BEGIN:VTIMEZONE
TZID:Australia/Sydney
BEGIN:STANDARD
TZOFFSETFROM:+1100
TZOFFSETTO:+1000
TZNAME:AEST
DTSTART:20200404T160000
END:STANDARD
BEGIN:DAYLIGHT
TZOFFSETFROM:+1000
TZOFFSETTO:+1100
TZNAME:AEDT
DTSTART:20201003T160000
END:DAYLIGHT
BEGIN:STANDARD
TZOFFSETFROM:+1100
TZOFFSETTO:+1000
TZNAME:AEST
DTSTART:20210403T160000
END:STANDARD
BEGIN:DAYLIGHT
TZOFFSETFROM:+1000
TZOFFSETTO:+1100
TZNAME:AEDT
DTSTART:20211002T160000
END:DAYLIGHT
BEGIN:STANDARD
TZOFFSETFROM:+1100
TZOFFSETTO:+1000
TZNAME:AEST
DTSTART:20220402T160000
END:STANDARD
BEGIN:DAYLIGHT
TZOFFSETFROM:+1000
TZOFFSETTO:+1100
TZNAME:AEDT
DTSTART:20221001T160000
END:DAYLIGHT
BEGIN:STANDARD
TZOFFSETFROM:+1100
TZOFFSETTO:+1000
TZNAME:AEST
DTSTART:20230401T160000
END:STANDARD
BEGIN:DAYLIGHT
TZOFFSETFROM:+1000
TZOFFSETTO:+1100
TZNAME:AEDT
DTSTART:20230930T160000
END:DAYLIGHT
BEGIN:STANDARD
TZOFFSETFROM:+1100
TZOFFSETTO:+1000
TZNAME:AEST
DTSTART:20240406T160000
END:STANDARD
BEGIN:DAYLIGHT
TZOFFSETFROM:+1000
TZOFFSETTO:+1100
TZNAME:AEDT
DTSTART:20241005T160000
END:DAYLIGHT
BEGIN:STANDARD
TZOFFSETFROM:+1100
TZOFFSETTO:+1000
TZNAME:AEST
DTSTART:20250405T160000
END:STANDARD
BEGIN:DAYLIGHT
TZOFFSETFROM:+1000
TZOFFSETTO:+1100
TZNAME:AEDT
DTSTART:20251004T160000
END:DAYLIGHT
BEGIN:STANDARD
TZOFFSETFROM:+1100
TZOFFSETTO:+1000
TZNAME:AEST
DTSTART:20260404T160000
END:STANDARD
BEGIN:DAYLIGHT
TZOFFSETFROM:+1000
TZOFFSETTO:+1100
TZNAME:AEDT
DTSTART:20261003T160000
END:DAYLIGHT
END:VTIMEZONE
BEGIN:VTIMEZONE
TZID:UTC
BEGIN:STANDARD
TZOFFSETFROM:+0000
TZOFFSETTO:+0000
TZNAME:UTC
DTSTART:20220101T000000
END:STANDARD
END:VTIMEZONE
BEGIN:VTIMEZONE
TZID:Australia/Melbourne
BEGIN:STANDARD
TZOFFSETFROM:+1100
TZOFFSETTO:+1000
TZNAME:AEST
DTSTART:20220402T160000
END:STANDARD
BEGIN:DAYLIGHT
TZOFFSETFROM:+1000
TZOFFSETTO:+1100
TZNAME:AEDT
DTSTART:20221001T160000
END:DAYLIGHT
BEGIN:STANDARD
TZOFFSETFROM:+1100
TZOFFSETTO:+1000
TZNAME:AEST
DTSTART:20230401T160000
END:STANDARD
BEGIN:DAYLIGHT
TZOFFSETFROM:+1000
TZOFFSETTO:+1100
TZNAME:AEDT
DTSTART:20230930T160000
END:DAYLIGHT
BEGIN:STANDARD
TZOFFSETFROM:+1100
TZOFFSETTO:+1000
TZNAME:AEST
DTSTART:20240406T160000
END:STANDARD
BEGIN:DAYLIGHT
TZOFFSETFROM:+1000
TZOFFSETTO:+1100
TZNAME:AEDT
DTSTART:20241005T160000
END:DAYLIGHT
END:VTIMEZONE
BEGIN:VEVENT
DTSTART;TZID=Australia/Sydney:20251114T193000
DTEND;TZID=Australia/Sydney:20251114T220000
DTSTAMP:20260424T072546
CREATED:20250129T043309Z
LAST-MODIFIED:20250212T211541Z
UID:99703-1763148600-1763157600@dooleyscc.com.au
SUMMARY:Image of the Year - Judge : Sandra Dann
DESCRIPTION:
URL:https://dooleyscc.com.au/meeting/image-of-the-year-3/
CATEGORIES:Competition,Presentation
END:VEVENT
BEGIN:VEVENT
DTSTART;TZID=Australia/Sydney:20251114T193000
DTEND;TZID=Australia/Sydney:20251114T220000
DTSTAMP:20260424T072546
CREATED:20250129T043308Z
LAST-MODIFIED:20250129T043308Z
UID:99702-1763148600-1763157600@dooleyscc.com.au
SUMMARY:AGM
DESCRIPTION:
URL:https://dooleyscc.com.au/meeting/agm-4/
CATEGORIES:Presentation
END:VEVENT
BEGIN:VEVENT
DTSTART;TZID=Australia/Sydney:20251010T193000
DTEND;TZID=Australia/Sydney:20251010T220000
DTSTAMP:20260424T072546
CREATED:20250129T043308Z
LAST-MODIFIED:20250129T043308Z
UID:99701-1760124600-1760133600@dooleyscc.com.au
SUMMARY:Workshop (Outdoors)
DESCRIPTION:
URL:https://dooleyscc.com.au/meeting/workshop-outdoors/
CATEGORIES:Presentation
END:VEVENT
BEGIN:VEVENT
DTSTART;TZID=Australia/Sydney:20250912T193000
DTEND;TZID=Australia/Sydney:20250912T220000
DTSTAMP:20260424T072546
CREATED:20250129T043308Z
LAST-MODIFIED:20250212T211227Z
UID:99700-1757705400-1757714400@dooleyscc.com.au
SUMMARY:Portfolio Project - Commentator: Don Moro
DESCRIPTION:
URL:https://dooleyscc.com.au/meeting/portifolio-project/
CATEGORIES:Presentation
END:VEVENT
BEGIN:VEVENT
DTSTART;TZID=Australia/Sydney:20250808T193000
DTEND;TZID=Australia/Sydney:20250808T220000
DTSTAMP:20260424T072546
CREATED:20250129T043308Z
LAST-MODIFIED:20250129T043308Z
UID:99699-1754681400-1754690400@dooleyscc.com.au
SUMMARY:Workshop (Portrait)
DESCRIPTION:
URL:https://dooleyscc.com.au/meeting/workshop-portrait/
CATEGORIES:Presentation
END:VEVENT
BEGIN:VEVENT
DTSTART;TZID=Australia/Sydney:20250711T193000
DTEND;TZID=Australia/Sydney:20250711T220000
DTSTAMP:20260424T072546
CREATED:20250129T043308Z
LAST-MODIFIED:20250212T211005Z
UID:99698-1752262200-1752271200@dooleyscc.com.au
SUMMARY:Focus by David Di Muro
DESCRIPTION:
URL:https://dooleyscc.com.au/meeting/tba-presenter-3/
CATEGORIES:Presentation
END:VEVENT
BEGIN:VEVENT
DTSTART;TZID=Australia/Sydney:20250613T193000
DTEND;TZID=Australia/Sydney:20250613T220000
DTSTAMP:20260424T072546
CREATED:20250129T043307Z
LAST-MODIFIED:20250129T043307Z
UID:99697-1749843000-1749852000@dooleyscc.com.au
SUMMARY:Tri Club - Ashes
DESCRIPTION:
URL:https://dooleyscc.com.au/meeting/tri-club-ashes/
CATEGORIES:Presentation
END:VEVENT
BEGIN:VEVENT
DTSTART;TZID=Australia/Sydney:20250509T193000
DTEND;TZID=Australia/Sydney:20250509T220000
DTSTAMP:20260424T072546
CREATED:20250129T043306Z
LAST-MODIFIED:20250212T210458Z
UID:99696-1746819000-1746828000@dooleyscc.com.au
SUMMARY:Workshop (Flowers)
DESCRIPTION:
URL:https://dooleyscc.com.au/meeting/tba-presenter-2/
CATEGORIES:Presentation
END:VEVENT
BEGIN:VEVENT
DTSTART;TZID=Australia/Sydney:20250411T193000
DTEND;TZID=Australia/Sydney:20250411T220000
DTSTAMP:20260424T072546
CREATED:20250129T043306Z
LAST-MODIFIED:20250212T210431Z
UID:99695-1744399800-1744408800@dooleyscc.com.au
SUMMARY:OPEN + Industry  - Judge: Janice Gursanscky
DESCRIPTION:
URL:https://dooleyscc.com.au/meeting/workshop-flowers/
CATEGORIES:Presentation
END:VEVENT
BEGIN:VEVENT
DTSTART;TZID=Australia/Sydney:20250314T193000
DTEND;TZID=Australia/Sydney:20250314T220000
DTSTAMP:20260424T072546
CREATED:20250129T043306Z
LAST-MODIFIED:20250212T210306Z
UID:99694-1741980600-1741989600@dooleyscc.com.au
SUMMARY:Nik Collection Possibilities by Sandra Dann
DESCRIPTION:
URL:https://dooleyscc.com.au/meeting/tba-presenter/
CATEGORIES:Presentation
END:VEVENT
BEGIN:VEVENT
DTSTART;TZID=Australia/Sydney:20250214T193000
DTEND;TZID=Australia/Sydney:20250214T220000
DTSTAMP:20260424T072546
CREATED:20250129T043306Z
LAST-MODIFIED:20250213T024554Z
UID:99693-1739561400-1739570400@dooleyscc.com.au
SUMMARY:Welcome & Beyond Camera Club by Paula Mitchell
DESCRIPTION:
URL:https://dooleyscc.com.au/meeting/welcome/
CATEGORIES:Presentation
ATTACH;FMTTYPE=image/webp:https://dooleyscc.com.au/wp-content/uploads/2025/01/DALL·E-2025-02-13-11.16.31-A-photorealistic-image-of-a-vibrant-green-sea-turtle-celebrating-New-Years-Eve-on-a-tropical-island-viewed-from-a-far-distance.-The-small-turtle-we.webp
END:VEVENT
BEGIN:VEVENT
DTSTART;TZID=UTC:20231208T180000
DTEND;TZID=UTC:20231208T220000
DTSTAMP:20260424T072546
CREATED:20230108T045534Z
LAST-MODIFIED:20230408T044244Z
UID:93195-1702058400-1702072800@dooleyscc.com.au
SUMMARY:Camera Club Christmas Party
DESCRIPTION:TBA
URL:https://dooleyscc.com.au/meeting/camera-club-christmas-party/
LOCATION:DOOLEYS Clubs\, Terrene St\, Regents Park NSW 2143\, Sydney\, 2143\, AU
CATEGORIES:Presentation
ATTACH;FMTTYPE=image/jpeg:https://dooleyscc.com.au/wp-content/uploads/2023/01/93195_image_323939381_562134189095498_7009215966394008964_n.jpg
END:VEVENT
BEGIN:VEVENT
DTSTART;TZID=UTC:20231124T193000
DTEND;TZID=UTC:20231124T220000
DTSTAMP:20260424T072546
CREATED:20230108T045535Z
LAST-MODIFIED:20231122T093832Z
UID:93197-1700854200-1700863200@dooleyscc.com.au
SUMMARY:Night Photography at Circular Quay.
DESCRIPTION:TBA
URL:https://dooleyscc.com.au/meeting/dooleys-presentation-night-tba/
LOCATION:DOOLEYS Clubs\, Terrene St\, Regents Park NSW 2143\, Sydney\, 2143\, AU
CATEGORIES:Presentation
ATTACH;FMTTYPE=image/jpeg:https://dooleyscc.com.au/wp-content/uploads/2023/01/93197_image_323408808_2271025763080476_8145444498074468419_n.jpg
END:VEVENT
BEGIN:VEVENT
DTSTART;TZID=UTC:20231110T193000
DTEND;TZID=UTC:20231110T220000
DTSTAMP:20260424T072546
CREATED:20230108T045536Z
LAST-MODIFIED:20230408T044244Z
UID:93199-1699644600-1699653600@dooleyscc.com.au
SUMMARY:Competition Night - Image of the Year - Judge: Tanya Du Toit
DESCRIPTION:Rule: Members must have been in the club for at least 6 months to be eligible to enter Image of the Year. Any image that has been entered in the current competition year is eligible for this competition. Images must be entered in the same section as first judged. Images must be unchanged.
URL:https://dooleyscc.com.au/meeting/competition-night-image-of-the-year/
LOCATION:DOOLEYS Clubs\, Terrene St\, Regents Park NSW 2143\, Sydney\, 2143\, AU
CATEGORIES:Presentation
ATTACH;FMTTYPE=image/jpeg:https://dooleyscc.com.au/wp-content/uploads/2023/01/93199_image_324257064_1253533102042565_2106838808601130154_n.jpg
END:VEVENT
BEGIN:VEVENT
DTSTART;TZID=UTC:20231013T193000
DTEND;TZID=UTC:20231013T220000
DTSTAMP:20260424T072546
CREATED:20230108T045538Z
LAST-MODIFIED:20230408T044244Z
UID:93203-1697225400-1697234400@dooleyscc.com.au
SUMMARY:Dooleys Presentation Night TBA
DESCRIPTION:TBA
URL:https://dooleyscc.com.au/meeting/dooleys-presentation-night-tba-2/
LOCATION:DOOLEYS Clubs\, Terrene St\, Regents Park NSW 2143\, Sydney\, 2143\, AU
CATEGORIES:Presentation
ATTACH;FMTTYPE=image/jpeg:https://dooleyscc.com.au/wp-content/uploads/2023/01/93203_image_324017318_540663681447606_907772904908792460_n.jpg
END:VEVENT
BEGIN:VEVENT
DTSTART;TZID=Australia/Melbourne:20230908T193000
DTEND;TZID=Australia/Melbourne:20230908T220000
DTSTAMP:20260424T072546
CREATED:20230108T045539Z
LAST-MODIFIED:20230408T044244Z
UID:93205-1694201400-1694210400@dooleyscc.com.au
SUMMARY:Dooleys Presentation Night TBA
DESCRIPTION:TBA
URL:https://dooleyscc.com.au/meeting/dooleys-presentation-night-tba-3/
LOCATION:DOOLEYS Clubs\, Terrene St\, Regents Park NSW 2143\, Sydney\, 2143\, AU
CATEGORIES:Presentation
ATTACH;FMTTYPE=image/jpeg:https://dooleyscc.com.au/wp-content/uploads/2023/01/93205_image_323423111_562780968762923_2634095114058463036_n.jpg
END:VEVENT
BEGIN:VEVENT
DTSTART;TZID=Australia/Melbourne:20230811T193000
DTEND;TZID=Australia/Melbourne:20230811T220000
DTSTAMP:20260424T072546
CREATED:20230108T045539Z
LAST-MODIFIED:20230408T044244Z
UID:93207-1691782200-1691791200@dooleyscc.com.au
SUMMARY:Dooleys Presentation Night TBA
DESCRIPTION:TBA
URL:https://dooleyscc.com.au/meeting/dooleys-presentation-night-tba-4/
LOCATION:DOOLEYS Clubs\, Terrene St\, Regents Park NSW 2143\, Sydney\, 2143\, AU
CATEGORIES:Presentation
ATTACH;FMTTYPE=image/jpeg:https://dooleyscc.com.au/wp-content/uploads/2023/01/93207_image_323900823_1067195391342706_1372995681959394318_n.jpg
END:VEVENT
BEGIN:VEVENT
DTSTART;TZID=Australia/Melbourne:20230714T193000
DTEND;TZID=Australia/Melbourne:20230714T220000
DTSTAMP:20260424T072546
CREATED:20230108T045540Z
LAST-MODIFIED:20230408T044244Z
UID:93209-1689363000-1689372000@dooleyscc.com.au
SUMMARY:Dooleys Presentation Night TBA
DESCRIPTION:TBA
URL:https://dooleyscc.com.au/meeting/dooleys-presentation-night-tba-5/
LOCATION:DOOLEYS Clubs\, Terrene St\, Regents Park NSW 2143\, Sydney\, 2143\, AU
CATEGORIES:Presentation
ATTACH;FMTTYPE=image/jpeg:https://dooleyscc.com.au/wp-content/uploads/2023/01/93209_image_324253789_491138709803478_2077512665749303460_n.jpg
END:VEVENT
BEGIN:VEVENT
DTSTART;TZID=Australia/Melbourne:20230609T193000
DTEND;TZID=Australia/Melbourne:20230609T220000
DTSTAMP:20260424T072546
CREATED:20230108T045541Z
LAST-MODIFIED:20230603T093602Z
UID:93211-1686339000-1686348000@dooleyscc.com.au
SUMMARY:Table top workshop - Bring your camera
DESCRIPTION:TBA
URL:https://dooleyscc.com.au/meeting/dooleys-presentation-night-tba-6/
LOCATION:DOOLEYS Clubs\, Terrene St\, Regents Park NSW 2143\, Sydney\, 2143\, AU
CATEGORIES:Presentation
ATTACH;FMTTYPE=image/jpeg:https://dooleyscc.com.au/wp-content/uploads/2023/01/93211_image_323644579_751758392976444_7684640822735853568_n.jpg
END:VEVENT
BEGIN:VEVENT
DTSTART;TZID=Australia/Melbourne:20230512T193000
DTEND;TZID=Australia/Melbourne:20230512T220000
DTSTAMP:20260424T072546
CREATED:20230108T045541Z
LAST-MODIFIED:20230408T044244Z
UID:93213-1683919800-1683928800@dooleyscc.com.au
SUMMARY:Style | Voice | Look by Len Matcalf
DESCRIPTION:
URL:https://dooleyscc.com.au/meeting/dooleys-presentation-night-tba-7/
LOCATION:DOOLEYS Clubs\, Terrene St\, Regents Park NSW 2143\, Sydney\, 2143\, AU
CATEGORIES:Presentation
ATTACH;FMTTYPE=image/jpeg:https://dooleyscc.com.au/wp-content/uploads/2023/01/93213_image_324296659_3303386369910684_7950746975761723048_n.jpg
END:VEVENT
BEGIN:VEVENT
DTSTART;TZID=Australia/Melbourne:20230414T193000
DTEND;TZID=Australia/Melbourne:20230414T220000
DTSTAMP:20260424T072546
CREATED:20230108T045542Z
LAST-MODIFIED:20230408T044244Z
UID:93215-1681500600-1681509600@dooleyscc.com.au
SUMMARY:Workshop
DESCRIPTION:TBA
URL:https://dooleyscc.com.au/meeting/dooleys-presentation-night-tba-8/
LOCATION:DOOLEYS Clubs\, Terrene St\, Regents Park NSW 2143\, Sydney\, 2143\, AU
CATEGORIES:Presentation
ATTACH;FMTTYPE=image/jpeg:https://dooleyscc.com.au/wp-content/uploads/2023/01/93215_image_324018363_1367738340703860_7100939604693968192_n.jpg
END:VEVENT
BEGIN:VEVENT
DTSTART;TZID=Australia/Sydney:20221118T183000
DTEND;TZID=Australia/Sydney:20221118T220000
DTSTAMP:20260424T072546
CREATED:20220101T000000Z
LAST-MODIFIED:20221026T084600Z
UID:91361-1668796200-1668808800@dooleyscc.com.au
SUMMARY:City Walk
DESCRIPTION:
URL:https://dooleyscc.com.au/meeting/tba-19/
CATEGORIES:Presentation
END:VEVENT
BEGIN:VEVENT
DTSTART;TZID=Australia/Sydney:20220909T193000
DTEND;TZID=Australia/Sydney:20220909T220000
DTSTAMP:20260424T072546
CREATED:20220101T000022Z
LAST-MODIFIED:20220101T054712Z
UID:91371-1662751800-1662760800@dooleyscc.com.au
SUMMARY:TBA
DESCRIPTION:
URL:https://dooleyscc.com.au/meeting/tba-25/
CATEGORIES:Presentation
END:VEVENT
BEGIN:VEVENT
DTSTART;TZID=Australia/Sydney:20220812T193000
DTEND;TZID=Australia/Sydney:20220812T220000
DTSTAMP:20260424T072546
CREATED:20220101T000021Z
LAST-MODIFIED:20220101T061957Z
UID:91369-1660332600-1660341600@dooleyscc.com.au
SUMMARY:TBA
DESCRIPTION:
URL:https://dooleyscc.com.au/meeting/tba-24/
CATEGORIES:Presentation
END:VEVENT
BEGIN:VEVENT
DTSTART;TZID=Australia/Sydney:20220708T193000
DTEND;TZID=Australia/Sydney:20220708T220000
DTSTAMP:20260424T072546
CREATED:20220101T000007Z
LAST-MODIFIED:20220101T070105Z
UID:91366-1657308600-1657317600@dooleyscc.com.au
SUMMARY:TBA
DESCRIPTION:
URL:https://dooleyscc.com.au/meeting/tba-22/
CATEGORIES:Presentation
END:VEVENT
BEGIN:VEVENT
DTSTART;TZID=Australia/Sydney:20220408T193000
DTEND;TZID=Australia/Sydney:20220408T220000
DTSTAMP:20260424T072546
CREATED:20220101T000001Z
LAST-MODIFIED:20220101T062952Z
UID:91363-1649446200-1649455200@dooleyscc.com.au
SUMMARY:TBA
DESCRIPTION:
URL:https://dooleyscc.com.au/meeting/tba-20/
CATEGORIES:Presentation
END:VEVENT
BEGIN:VEVENT
DTSTART;TZID=Australia/Sydney:20220211T193000
DTEND;TZID=Australia/Sydney:20220211T220000
DTSTAMP:20260424T072546
CREATED:20211231T235959Z
LAST-MODIFIED:20220101T061532Z
UID:91359-1644607800-1644616800@dooleyscc.com.au
SUMMARY:Welcome and 2021 Awards Night
DESCRIPTION:
URL:https://dooleyscc.com.au/meeting/welcome-and-2021-awards-night/
CATEGORIES:Presentation
END:VEVENT
BEGIN:VEVENT
DTSTART;TZID=Australia/Sydney:20210910T193000
DTEND;TZID=Australia/Sydney:20210910T220000
DTSTAMP:20260424T072546
CREATED:20201226T040144Z
LAST-MODIFIED:20210326T090030Z
UID:88127-1631302200-1631311200@dooleyscc.com.au
SUMMARY:Epson Life – Inspire\, Create & Share by Derek Mobbs
DESCRIPTION:
URL:https://dooleyscc.com.au/meeting/tba-17/
CATEGORIES:Presentation
END:VEVENT
BEGIN:VEVENT
DTSTART;TZID=Australia/Sydney:20210813T193000
DTEND;TZID=Australia/Sydney:20210813T220000
DTSTAMP:20260424T072546
CREATED:20201226T040144Z
LAST-MODIFIED:20201226T040144Z
UID:88125-1628883000-1628892000@dooleyscc.com.au
SUMMARY:TBA
DESCRIPTION:
URL:https://dooleyscc.com.au/meeting/tba-16/
CATEGORIES:Presentation
END:VEVENT
BEGIN:VEVENT
DTSTART;TZID=Australia/Sydney:20210611T193000
DTEND;TZID=Australia/Sydney:20210611T220000
DTSTAMP:20260424T072546
CREATED:20201226T040129Z
LAST-MODIFIED:20201226T040129Z
UID:88121-1623439800-1623448800@dooleyscc.com.au
SUMMARY:TBA
DESCRIPTION:
URL:https://dooleyscc.com.au/meeting/tba-14/
CATEGORIES:Presentation
END:VEVENT
END:VCALENDAR