BEGIN:VCALENDAR
VERSION:2.0
PRODID:-//Dooleys Camera Club - ECPv6.15.20//NONSGML v1.0//EN
CALSCALE:GREGORIAN
METHOD:PUBLISH
X-ORIGINAL-URL:https://dooleyscc.com.au
X-WR-CALDESC:Events for Dooleys Camera Club
REFRESH-INTERVAL;VALUE=DURATION:PT1H
X-Robots-Tag:noindex
X-PUBLISHED-TTL:PT1H
BEGIN:VTIMEZONE
TZID:Australia/Sydney
BEGIN:STANDARD
TZOFFSETFROM:+1100
TZOFFSETTO:+1000
TZNAME:AEST
DTSTART:20130406T160000
END:STANDARD
BEGIN:DAYLIGHT
TZOFFSETFROM:+1000
TZOFFSETTO:+1100
TZNAME:AEDT
DTSTART:20131005T160000
END:DAYLIGHT
BEGIN:STANDARD
TZOFFSETFROM:+1100
TZOFFSETTO:+1000
TZNAME:AEST
DTSTART:20140405T160000
END:STANDARD
BEGIN:DAYLIGHT
TZOFFSETFROM:+1000
TZOFFSETTO:+1100
TZNAME:AEDT
DTSTART:20141004T160000
END:DAYLIGHT
BEGIN:STANDARD
TZOFFSETFROM:+1100
TZOFFSETTO:+1000
TZNAME:AEST
DTSTART:20150404T160000
END:STANDARD
BEGIN:DAYLIGHT
TZOFFSETFROM:+1000
TZOFFSETTO:+1100
TZNAME:AEDT
DTSTART:20151003T160000
END:DAYLIGHT
END:VTIMEZONE
BEGIN:VEVENT
DTSTART;TZID=Australia/Sydney:20140314T193000
DTEND;TZID=Australia/Sydney:20140314T230000
DTSTAMP:20260423T231852
CREATED:20140215T223233Z
LAST-MODIFIED:20140215T223233Z
UID:66078-1394825400-1394838000@dooleyscc.com.au
SUMMARY:Presentation HDR with Steve Mullarkey
DESCRIPTION:
URL:https://dooleyscc.com.au/meeting/presentation-hdr-with-steve-mullarkey/
LOCATION:Dooleys Catholic Club\, Lidcome\, 24-28 John St\, Lidcome\, NSW\, 2141\, Australia
CATEGORIES:Presentation
END:VEVENT
BEGIN:VEVENT
DTSTART;VALUE=DATE:20140315
DTEND;VALUE=DATE:20140316
DTSTAMP:20260423T231852
CREATED:20140215T223602Z
LAST-MODIFIED:20140215T223602Z
UID:66079-1394841600-1394927999@dooleyscc.com.au
SUMMARY:Digital entries due
DESCRIPTION:
URL:https://dooleyscc.com.au/meeting/digital-entries-due-2/
END:VEVENT
BEGIN:VEVENT
DTSTART;TZID=Australia/Sydney:20140328T193000
DTEND;TZID=Australia/Sydney:20140328T230000
DTSTAMP:20260423T231852
CREATED:20140215T224615Z
LAST-MODIFIED:20140215T224615Z
UID:66088-1396035000-1396047600@dooleyscc.com.au
SUMMARY:Architecture and Open - Competition
DESCRIPTION:Judge: Janie News (http://www.janienewsphotography.com) \nThe subject of this month’s competition is Architecture.   \nDefinition of Architecture:  an image of buildings or structures\, (ancient or modern\, interior or exterior)\, monuments\, columns\, bridges or parts thereof.
URL:https://dooleyscc.com.au/meeting/open-and-architecture-competition/
LOCATION:Dooleys Catholic Club\, Lidcome\, 24-28 John St\, Lidcome\, NSW\, 2141\, Australia
CATEGORIES:Competition
END:VEVENT
BEGIN:VEVENT
DTSTART;VALUE=DATE:20140329
DTEND;VALUE=DATE:20140330
DTSTAMP:20260423T231852
CREATED:20140215T223732Z
LAST-MODIFIED:20140215T223732Z
UID:66080-1396051200-1396137599@dooleyscc.com.au
SUMMARY:Digital entries due
DESCRIPTION:
URL:https://dooleyscc.com.au/meeting/digital-entries-due-3/
END:VEVENT
END:VCALENDAR