BEGIN:VCALENDAR
VERSION:2.0
PRODID:-//Dooleys Camera Club - ECPv6.15.20//NONSGML v1.0//EN
CALSCALE:GREGORIAN
METHOD:PUBLISH
X-WR-CALNAME:Dooleys Camera Club
X-ORIGINAL-URL:https://dooleyscc.com.au
X-WR-CALDESC:Events for Dooleys Camera Club
REFRESH-INTERVAL;VALUE=DURATION:PT1H
X-Robots-Tag:noindex
X-PUBLISHED-TTL:PT1H
BEGIN:VTIMEZONE
TZID:Australia/Sydney
BEGIN:STANDARD
TZOFFSETFROM:+1100
TZOFFSETTO:+1000
TZNAME:AEST
DTSTART:20130406T160000
END:STANDARD
BEGIN:DAYLIGHT
TZOFFSETFROM:+1000
TZOFFSETTO:+1100
TZNAME:AEDT
DTSTART:20131005T160000
END:DAYLIGHT
BEGIN:STANDARD
TZOFFSETFROM:+1100
TZOFFSETTO:+1000
TZNAME:AEST
DTSTART:20140405T160000
END:STANDARD
BEGIN:DAYLIGHT
TZOFFSETFROM:+1000
TZOFFSETTO:+1100
TZNAME:AEDT
DTSTART:20141004T160000
END:DAYLIGHT
BEGIN:STANDARD
TZOFFSETFROM:+1100
TZOFFSETTO:+1000
TZNAME:AEST
DTSTART:20150404T160000
END:STANDARD
BEGIN:DAYLIGHT
TZOFFSETFROM:+1000
TZOFFSETTO:+1100
TZNAME:AEDT
DTSTART:20151003T160000
END:DAYLIGHT
END:VTIMEZONE
BEGIN:VEVENT
DTSTART;TZID=Australia/Sydney:20140808T190000
DTEND;TZID=Australia/Sydney:20140808T220000
DTSTAMP:20260421T213133
CREATED:20140216T062522Z
LAST-MODIFIED:20140216T062522Z
UID:66099-1407524400-1407535200@dooleyscc.com.au
SUMMARY:Presentation by Mark Tedeski
DESCRIPTION: 
URL:https://dooleyscc.com.au/meeting/presentation-by-mark-tedeski/
LOCATION:Dooleys Catholic Club\, Lidcome\, 24-28 John St\, Lidcome\, NSW\, 2141\, Australia
CATEGORIES:Presentation
END:VEVENT
BEGIN:VEVENT
DTSTART;VALUE=DATE:20140809
DTEND;VALUE=DATE:20140810
DTSTAMP:20260421T213133
CREATED:20140215T224129Z
LAST-MODIFIED:20140215T224129Z
UID:66084-1407542400-1407628799@dooleyscc.com.au
SUMMARY:Digital entries due
DESCRIPTION:
URL:https://dooleyscc.com.au/meeting/digital-entries-due-7/
END:VEVENT
BEGIN:VEVENT
DTSTART;TZID=Australia/Sydney:20140822T193000
DTEND;TZID=Australia/Sydney:20140822T230000
DTSTAMP:20260421T213133
CREATED:20140216T064032Z
LAST-MODIFIED:20140216T064032Z
UID:66103-1408735800-1408748400@dooleyscc.com.au
SUMMARY:Abstract and Open - Competition
DESCRIPTION:Judge: Len Brown
URL:https://dooleyscc.com.au/meeting/abstract-and-open-competition/
LOCATION:Dooleys Catholic Club\, Lidcome\, 24-28 John St\, Lidcome\, NSW\, 2141\, Australia
CATEGORIES:Competition
END:VEVENT
END:VCALENDAR