BEGIN:VCALENDAR
VERSION:2.0
PRODID:-//Dooleys Camera Club - ECPv6.15.20//NONSGML v1.0//EN
CALSCALE:GREGORIAN
METHOD:PUBLISH
X-ORIGINAL-URL:https://dooleyscc.com.au
X-WR-CALDESC:Events for Dooleys Camera Club
REFRESH-INTERVAL;VALUE=DURATION:PT1H
X-Robots-Tag:noindex
X-PUBLISHED-TTL:PT1H
BEGIN:VTIMEZONE
TZID:Australia/Sydney
BEGIN:STANDARD
TZOFFSETFROM:+1100
TZOFFSETTO:+1000
TZNAME:AEST
DTSTART:20130406T160000
END:STANDARD
BEGIN:DAYLIGHT
TZOFFSETFROM:+1000
TZOFFSETTO:+1100
TZNAME:AEDT
DTSTART:20131005T160000
END:DAYLIGHT
BEGIN:STANDARD
TZOFFSETFROM:+1100
TZOFFSETTO:+1000
TZNAME:AEST
DTSTART:20140405T160000
END:STANDARD
BEGIN:DAYLIGHT
TZOFFSETFROM:+1000
TZOFFSETTO:+1100
TZNAME:AEDT
DTSTART:20141004T160000
END:DAYLIGHT
BEGIN:STANDARD
TZOFFSETFROM:+1100
TZOFFSETTO:+1000
TZNAME:AEST
DTSTART:20150404T160000
END:STANDARD
BEGIN:DAYLIGHT
TZOFFSETFROM:+1000
TZOFFSETTO:+1100
TZNAME:AEDT
DTSTART:20151003T160000
END:DAYLIGHT
END:VTIMEZONE
BEGIN:VEVENT
DTSTART;TZID=Australia/Sydney:20140906T080000
DTEND;TZID=Australia/Sydney:20140906T170000
DTSTAMP:20260421T200752
CREATED:20140216T064550Z
LAST-MODIFIED:20140216T064550Z
UID:66104-1409990400-1410022800@dooleyscc.com.au
SUMMARY:Low Light/Night Shoot
DESCRIPTION:Details: TBA
URL:https://dooleyscc.com.au/meeting/low-lightnight-shoot/
LOCATION:Dooleys Catholic Club\, Lidcome\, 24-28 John St\, Lidcome\, NSW\, 2141\, Australia
CATEGORIES:Outing
END:VEVENT
BEGIN:VEVENT
DTSTART;TZID=Australia/Sydney:20140912T193000
DTEND;TZID=Australia/Sydney:20140912T220000
DTSTAMP:20260421T200752
CREATED:20140216T062943Z
LAST-MODIFIED:20140216T062943Z
UID:66101-1410550200-1410559200@dooleyscc.com.au
SUMMARY:Pocket Money from your images by Paula De Barros
DESCRIPTION: 
URL:https://dooleyscc.com.au/meeting/pocket-money-from-your-images-by-paula-de-barros/
LOCATION:Dooleys Catholic Club\, Lidcome\, 24-28 John St\, Lidcome\, NSW\, 2141\, Australia
CATEGORIES:Presentation
END:VEVENT
BEGIN:VEVENT
DTSTART;VALUE=DATE:20140913
DTEND;VALUE=DATE:20140914
DTSTAMP:20260421T200752
CREATED:20140215T224210Z
LAST-MODIFIED:20140215T224210Z
UID:66085-1410566400-1410652799@dooleyscc.com.au
SUMMARY:Digital entries due
DESCRIPTION:
URL:https://dooleyscc.com.au/meeting/digital-entries-due-8/
END:VEVENT
BEGIN:VEVENT
DTSTART;TZID=Australia/Sydney:20140926T193000
DTEND;TZID=Australia/Sydney:20140926T230000
DTSTAMP:20260421T200752
CREATED:20140216T064838Z
LAST-MODIFIED:20140216T064838Z
UID:66106-1411759800-1411772400@dooleyscc.com.au
SUMMARY:Street Photography and Open - Competition
DESCRIPTION:Judge: Allan Coker
URL:https://dooleyscc.com.au/meeting/street-photography-and-open-competition/
LOCATION:Dooleys Catholic Club\, Lidcome\, 24-28 John St\, Lidcome\, NSW\, 2141\, Australia
CATEGORIES:Competition
END:VEVENT
BEGIN:VEVENT
DTSTART;VALUE=DATE:20140927
DTEND;VALUE=DATE:20140928
DTSTAMP:20260421T200752
CREATED:20140215T224308Z
LAST-MODIFIED:20140215T224308Z
UID:66086-1411776000-1411862399@dooleyscc.com.au
SUMMARY:Digital entries due
DESCRIPTION:
URL:https://dooleyscc.com.au/meeting/digital-entries-due-9/
END:VEVENT
END:VCALENDAR