BEGIN:VCALENDAR
VERSION:2.0
PRODID:-//Dooleys Camera Club - ECPv6.15.20//NONSGML v1.0//EN
CALSCALE:GREGORIAN
METHOD:PUBLISH
X-ORIGINAL-URL:https://dooleyscc.com.au
X-WR-CALDESC:Events for Dooleys Camera Club
REFRESH-INTERVAL;VALUE=DURATION:PT1H
X-Robots-Tag:noindex
X-PUBLISHED-TTL:PT1H
BEGIN:VTIMEZONE
TZID:UTC
BEGIN:STANDARD
TZOFFSETFROM:+0000
TZOFFSETTO:+0000
TZNAME:UTC
DTSTART:20160101T000000
END:STANDARD
END:VTIMEZONE
BEGIN:VEVENT
DTSTART;TZID=UTC:20170310T193000
DTEND;TZID=UTC:20170310T223000
DTSTAMP:20260424T092326
CREATED:20170118T184639Z
LAST-MODIFIED:20170118T184639Z
UID:74009-1489174200-1489185000@dooleyscc.com.au
SUMMARY:NIK Software - Malcolm Fackender
DESCRIPTION:
URL:https://dooleyscc.com.au/meeting/nik-software-malcolm-fackender/
LOCATION:DOOLEYS Lidcombe Catholic Club\, 24  John St\, Lidcombe\, 2141\, Australia
CATEGORIES:Presentation
END:VEVENT
BEGIN:VEVENT
DTSTART;TZID=UTC:20170324T193000
DTEND;TZID=UTC:20170324T223000
DTSTAMP:20260424T092326
CREATED:20170118T191356Z
LAST-MODIFIED:20170118T191356Z
UID:74020-1490383800-1490394600@dooleyscc.com.au
SUMMARY:Competition Open + Sports/Action - Peita Ward
DESCRIPTION:
URL:https://dooleyscc.com.au/meeting/competition-open-sportsaction-peita-ward/
LOCATION:DOOLEYS Lidcombe Catholic Club\, 24  John St\, Lidcombe\, 2141\, Australia
END:VEVENT
END:VCALENDAR