BEGIN:VCALENDAR
VERSION:2.0
PRODID:-//Dooleys Camera Club - ECPv6.15.20//NONSGML v1.0//EN
CALSCALE:GREGORIAN
METHOD:PUBLISH
X-ORIGINAL-URL:https://dooleyscc.com.au
X-WR-CALDESC:Events for Dooleys Camera Club
REFRESH-INTERVAL;VALUE=DURATION:PT1H
X-Robots-Tag:noindex
X-PUBLISHED-TTL:PT1H
BEGIN:VTIMEZONE
TZID:Australia/Melbourne
BEGIN:STANDARD
TZOFFSETFROM:+1100
TZOFFSETTO:+1000
TZNAME:AEST
DTSTART:20160402T160000
END:STANDARD
BEGIN:DAYLIGHT
TZOFFSETFROM:+1000
TZOFFSETTO:+1100
TZNAME:AEDT
DTSTART:20161001T160000
END:DAYLIGHT
BEGIN:STANDARD
TZOFFSETFROM:+1100
TZOFFSETTO:+1000
TZNAME:AEST
DTSTART:20170401T160000
END:STANDARD
BEGIN:DAYLIGHT
TZOFFSETFROM:+1000
TZOFFSETTO:+1100
TZNAME:AEDT
DTSTART:20170930T160000
END:DAYLIGHT
BEGIN:STANDARD
TZOFFSETFROM:+1100
TZOFFSETTO:+1000
TZNAME:AEST
DTSTART:20180331T160000
END:STANDARD
BEGIN:DAYLIGHT
TZOFFSETFROM:+1000
TZOFFSETTO:+1100
TZNAME:AEDT
DTSTART:20181006T160000
END:DAYLIGHT
END:VTIMEZONE
BEGIN:VEVENT
DTSTART;TZID=Australia/Melbourne:20170512T193000
DTEND;TZID=Australia/Melbourne:20170512T223000
DTSTAMP:20260424T115631
CREATED:20170118T184642Z
LAST-MODIFIED:20170118T184642Z
UID:74010-1494617400-1494628200@dooleyscc.com.au
SUMMARY:Women in Photography - Phil Ramsden
DESCRIPTION:
URL:https://dooleyscc.com.au/meeting/women-in-photography-phil-ramsden/
LOCATION:DOOLEYS Lidcombe Catholic Club\, 24  John St\, Lidcombe\, 2141\, Australia
CATEGORIES:Presentation
END:VEVENT
BEGIN:VEVENT
DTSTART;TZID=Australia/Melbourne:20170526T193000
DTEND;TZID=Australia/Melbourne:20170526T223000
DTSTAMP:20260424T115631
CREATED:20170118T191405Z
LAST-MODIFIED:20170118T191405Z
UID:74022-1495827000-1495837800@dooleyscc.com.au
SUMMARY:Competition Open + Macro - Tanya Du Toit
DESCRIPTION:
URL:https://dooleyscc.com.au/meeting/competition-open-macro-tanya-du-toit/
LOCATION:DOOLEYS Lidcombe Catholic Club\, 24  John St\, Lidcombe\, 2141\, Australia
END:VEVENT
END:VCALENDAR